BEGIN:VCALENDAR
VERSION:2.0
PRODID:-//The Truespoke Blog - ECPv5.0.2.1//NONSGML v1.0//EN
CALSCALE:GREGORIAN
METHOD:PUBLISH
X-WR-CALNAME:The Truespoke Blog
X-ORIGINAL-URL:http://thetruespoke.com
X-WR-CALDESC:Events for The Truespoke Blog
BEGIN:VTIMEZONE
TZID:Asia/Krasnoyarsk
BEGIN:STANDARD
TZOFFSETFROM:+0700
TZOFFSETTO:+0700
TZNAME:+07
DTSTART:20170101T000000
END:STANDARD
END:VTIMEZONE
BEGIN:VEVENT
DTSTART;TZID=Asia/Krasnoyarsk:20170114T163000
DTEND;TZID=Asia/Krasnoyarsk:20170114T180000
DTSTAMP:20260422T154033
CREATED:20170106T121122Z
LAST-MODIFIED:20170107T163416Z
UID:1632-1484411400-1484416800@thetruespoke.com
SUMMARY:January Gathering Session - Câu chuyện của một sartorialist ờ Việt Nam.
DESCRIPTION:Buổi gặp gỡ đầu tiên của The Truespoke Blog\, trong khuôn khổ chia sẻ và giao lưu giữa những bạn đọc thực sự quan tâm với lối sống sartorial tại Việt Nam.\n \nChủ đề tháng 1 năm 2017: Câu chuyện của một Sartorialist – Đây là chủ đề chia sẻ cho các bạn đọc quá trình tìm hiểu để trở thành một sartorialist. Và sartorialist ở Việt Nam thì làm gì\, ra sao. Ngoài ra buổi tổ chức sẽ là dịp để các bạn đọc ngồi lại cùng hỏi đáp\, nói chuyện với thành viên từ blog. \nChi phí tham dự: 250\,000 VND\nSố lượng người tham dự: 12 người.\nĐịa điểm: Moon Coworking Space – Số 34\, Ngõ 28B\, Phố Điện Biên Phủ\, Hà Nội\nThời gian: 16:30 PM – Thứ bảy\, 14/01/2017\nĐăng ký: (form phía dưới – refresh nếu không thấy form) – Link: http://bit.ly/2iN3yXD \n*Chi phí tham dự bao gồm cả địa điểm\, đồ uống và đồ ăn nhẹ. Đồ uống bao gồm vang từ Ý\, trà và nước. \nLoading… \n  \n
URL:http://thetruespoke.com/trunk-show/jan_gathering/
LOCATION:Moonwork Coworking Space\, Số 34\, Ngõ 28B\, Điện Biên Phủ\, Hanoi\, Hanoi\, Viet Nam
CATEGORIES:Events
ATTACH;FMTTYPE=image/png:http://thetruespoke.com/wp-content/uploads/2017/01/TS_Event_cover.png
END:VEVENT
END:VCALENDAR